BEGIN:VCALENDAR
VERSION:2.0
PRODID:-//Renaissance Academy - ECPv6.15.17.1//NONSGML v1.0//EN
CALSCALE:GREGORIAN
METHOD:PUBLISH
X-ORIGINAL-URL:https://www.rschool.net
X-WR-CALDESC:Events for Renaissance Academy
REFRESH-INTERVAL;VALUE=DURATION:PT1H
X-Robots-Tag:noindex
X-PUBLISHED-TTL:PT1H
BEGIN:VTIMEZONE
TZID:America/Chicago
BEGIN:DAYLIGHT
TZOFFSETFROM:-0600
TZOFFSETTO:-0500
TZNAME:CDT
DTSTART:20190310T080000
END:DAYLIGHT
BEGIN:STANDARD
TZOFFSETFROM:-0500
TZOFFSETTO:-0600
TZNAME:CST
DTSTART:20191103T070000
END:STANDARD
BEGIN:DAYLIGHT
TZOFFSETFROM:-0600
TZOFFSETTO:-0500
TZNAME:CDT
DTSTART:20200308T080000
END:DAYLIGHT
BEGIN:STANDARD
TZOFFSETFROM:-0500
TZOFFSETTO:-0600
TZNAME:CST
DTSTART:20201101T070000
END:STANDARD
BEGIN:DAYLIGHT
TZOFFSETFROM:-0600
TZOFFSETTO:-0500
TZNAME:CDT
DTSTART:20210314T080000
END:DAYLIGHT
BEGIN:STANDARD
TZOFFSETFROM:-0500
TZOFFSETTO:-0600
TZNAME:CST
DTSTART:20211107T070000
END:STANDARD
END:VTIMEZONE
BEGIN:VEVENT
DTSTART;VALUE=DATE:20201212
DTEND;VALUE=DATE:20201213
DTSTAMP:20260419T121408
CREATED:20200722T194535Z
LAST-MODIFIED:20200722T194535Z
UID:2157-1607731200-1607817599@www.rschool.net
SUMMARY:Saturday School - Renaissance Classes
DESCRIPTION:
URL:https://www.rschool.net/event/saturday-school-renaissance-classes-2/
END:VEVENT
BEGIN:VEVENT
DTSTART;VALUE=DATE:20201218
DTEND;VALUE=DATE:20201219
DTSTAMP:20260419T121408
CREATED:20200722T195412Z
LAST-MODIFIED:20200722T195412Z
UID:2158-1608249600-1608335999@www.rschool.net
SUMMARY:No School - Winter Break
DESCRIPTION:
URL:https://www.rschool.net/event/no-school-winter-break/
END:VEVENT
END:VCALENDAR